BEGIN:VCALENDAR
VERSION:2.0
PRODID:-//hacksw/handcal//NONSGML v1.0//EN
CALSCALE:GREGORIAN
BEGIN:VEVENT
LOCATION:TSC Savoy München
DESCRIPTION:Einladungsschreiben (pdf-Format)\n\n\n\n \n\n\n\n \n\n\n\n
DTSTART:20211017
DTEND:20211018
SUMMARY:LM Preparation Camp u21 Latein
URL;VALUE=URI:https://ltvb.de/2021/10/07/lm-preparation-camp-u21-latein-2/
DTSTAMP:now
UID:69e732f8409e4
END:VEVENT
END:VCALENDAR