BEGIN:VCALENDAR
VERSION:2.0
PRODID:-//hacksw/handcal//NONSGML v1.0//EN
CALSCALE:GREGORIAN
BEGIN:VEVENT
LOCATION:TSC Unterschleißheim
DESCRIPTION:Ausrichter TSC Unterschleißheim
DTSTART:20210911
DTEND:20210912
SUMMARY:Landesmeisterschaft Hgr D-B Standard
URL;VALUE=URI:https://ltvb.de/2020/01/27/landesmeisterschaft-hgr-d-b-standard/
DTSTAMP:now
UID:69e8ac320d443
END:VEVENT
END:VCALENDAR