BEGIN:VCALENDAR
VERSION:2.0
PRODID:-//hacksw/handcal//NONSGML v1.0//EN
CALSCALE:GREGORIAN
BEGIN:VEVENT
LOCATION:TSC Unterschleißheim
DESCRIPTION:Ausrichter: TSC Unterschleißheim
DTSTART:20220305
DTEND:20220306
SUMMARY:Landesmeisterschaft Sen II D-S Standard
URL;VALUE=URI:https://ltvb.de/2021/01/19/landesmeisterschaft-sen-ii-d-s-standard/
DTSTAMP:now
UID:69e79f8c016d7
END:VEVENT
END:VCALENDAR