BEGIN:VCALENDAR
VERSION:2.0
PRODID:-//hacksw/handcal//NONSGML v1.0//EN
CALSCALE:GREGORIAN
BEGIN:VEVENT
LOCATION:TSA Schwarz-Gold d. ESV Ingolstadt
DESCRIPTION:Ausrichter: TSA Schwarz-Gold d. ESV Ingolstadt\n\n\n\nZeitplan:\n\n\n\n\n\n\n\nKinder D\n\n13:00\n\n\n\n\n\nJunioren I D\n\n13:30\n\n\n\n\n\nKinder C\n\n14:00\n\n\n\n\n\nJunioren I C\n\n14:15\n\n\n\n\n\nJunioren I B\n\n15:00\n\n\n\n\n\nJun II/Jug D\n\n15:30\n\n\n\n\n\nJunioren II C\n\n16:00\n\n\n\n\n\nJugend C\n\n16:45\n\n\n\n\n\nJunioren II B\n\n17:15\n\n\n\n\n\nJugend B\n\n18:00\n\n\n\n\n\nJugend A\n\n18:30\n\n\n\n\n\n\n\n 
DTSTART:20211106
DTEND:20211107
SUMMARY:Landesmeisterschaft Kinder\, Junioren\, Jugend D-A Latein 2021
URL;VALUE=URI:https://ltvb.de/2020/01/27/landesmeisterschaft-kinder-junioren-jugend-d-a-latein-2/
DTSTAMP:now
UID:69e8ac31d7b79
END:VEVENT
END:VCALENDAR