BEGIN:VCALENDAR
VERSION:2.0
PRODID:-//hacksw/handcal//NONSGML v1.0//EN
CALSCALE:GREGORIAN
BEGIN:VEVENT
LOCATION:Deutsches Theater München
DESCRIPTION:Ball der Nationen mit internationalem Einladungsturner Hgr S Latein und U21 A/S Standard\n\n\n\n \n\n\n\nOrt:\n\n\n\nDeutsches Theater\n\n\n\nSchwanthalerstr. 13\n\n\n\n80336 München\n\n\n\n \n\n\n\nDatum: 8. Februar 2020\n\n\n\nEinlass 18:30\n\n\n\nBeginn 19:30\n\n\n\n \n\n\n\nWeitere Informationen: www.balldernationen.eu
DTSTART:20200208
DTEND:20200209
SUMMARY:Ball der Nationen
URL;VALUE=URI:https://ltvb.de/2019/11/26/ball-der-nationen/
DTSTAMP:now
UID:69e8ffda5cd67
END:VEVENT
END:VCALENDAR