BEGIN:VCALENDAR
VERSION:2.0
PRODID:-//hacksw/handcal//NONSGML v1.0//EN
CALSCALE:GREGORIAN
BEGIN:VEVENT
LOCATION:TSC Unterschleißheim
DESCRIPTION:
DTSTART:20190714
DTEND:20190715
SUMMARY:Erster Workshop mit Let´s Dance Profis 2019
URL;VALUE=URI:https://ltvb.de/2019/06/26/erster-workshop-mit-lets-dance-profis-2019-2/
DTSTAMP:now
UID:69e9d47139bba
END:VEVENT
END:VCALENDAR