BEGIN:VCALENDAR
VERSION:2.0
PRODID:-//hacksw/handcal//NONSGML v1.0//EN
CALSCALE:GREGORIAN
BEGIN:VEVENT
LOCATION:TSA d. TSV Unterhaching
DESCRIPTION:
DTSTART:20190607
DTEND:20190608
SUMMARY:Offener Standard-Workshop mit Sven Traut in Unterhaching
URL;VALUE=URI:https://ltvb.de/2019/04/30/offener-standard-workshop-mit-sven-traut-in-unterhaching/
DTSTAMP:now
UID:69e67aedbe3d4
END:VEVENT
END:VCALENDAR