BEGIN:VCALENDAR
VERSION:2.0
PRODID:-//hacksw/handcal//NONSGML v1.0//EN
CALSCALE:GREGORIAN
BEGIN:VEVENT
LOCATION:TSC Rot-Gold-Casino Nürnberg
DESCRIPTION: \n\n\n\nOrt: TSC Rot-Gold-Casino Nürnberg\n\n\n\n \n\n\n\nThema: Standard\n\n\n\nDozent: Pedro Rodriguez\n\n\n\n \n\n\n\nSamstag\, 13.07. 2019\, 10:00 - 18:00\n\n\n\nSonntag\, 14.07.2019\, 10:00 - 18:00
DTSTART:20190713
DTEND:20190715
SUMMARY:Ausbildung Wertungsrichter/in C 2019 – Termin 1
URL;VALUE=URI:https://ltvb.de/2018/10/17/ausbildung-wertungsrichter-in-c-2019-termin-1/
DTSTAMP:now
UID:69e6ef4e2dc7f
END:VEVENT
END:VCALENDAR