BEGIN:VCALENDAR
VERSION:2.0
PRODID:-//hacksw/handcal//NONSGML v1.0//EN
CALSCALE:GREGORIAN
BEGIN:VEVENT
LOCATION:TSA der RT-Regensburger Turnerschaft
DESCRIPTION:Ort:\n\nTSA der RT - Regensburger Turnerschaft e.V.\n\nSchopperplatz 6\n\n93059 Regensburg\n\nRT-Bühne\, Eingang Lieblstr.\n\n\n\n \n\n\n\nDatum:\n\n09.09.2018\n\n17:00 bis 20:00 Uhr\n\n\n\n \n\n\n\nKosten:\n\nVereinsmitglieder 10 € / Person\n\nNichtmitglieder 15 € / Person\n\n\n\n \n\n\n\nAnmeldung:\n\nbei Agnieszka Hübner\n\njugendwart@rt-tanzsport.de
DTSTART:20180909
DTEND:20180910
SUMMARY:Latein-Workshop mit Rudi Grabon
URL;VALUE=URI:https://ltvb.de/2018/07/25/latein-workshop-mit-rudi-grabon-2/
DTSTAMP:now
UID:69e6655f9fafa
END:VEVENT
END:VCALENDAR