BEGIN:VCALENDAR
VERSION:2.0
PRODID:-//hacksw/handcal//NONSGML v1.0//EN
CALSCALE:GREGORIAN
BEGIN:VEVENT
LOCATION:TSC Savoy München
DESCRIPTION:Ausrichter: TSC Savoy München
DTSTART:20191026
DTEND:20191027
SUMMARY:Landesmeisterschaft Hgr. D-A Latein
URL;VALUE=URI:https://ltvb.de/2018/02/15/landesmeisterschaft-hgr-d-a-latein-2/
DTSTAMP:now
UID:69e8811913803
END:VEVENT
END:VCALENDAR