BEGIN:VCALENDAR
VERSION:2.0
PRODID:-//hacksw/handcal//NONSGML v1.0//EN
CALSCALE:GREGORIAN
BEGIN:VEVENT
LOCATION:TSC Rot-Gold-Casino Nürnberg 
DESCRIPTION:Ausrichter: TSC Rot-Gold-Casino Nürnberg
DTSTART:20190929
DTEND:20190930
SUMMARY:Landesmeisterschaft Hgr. II D-S Standard / Senioren I D-S Standard
URL;VALUE=URI:https://ltvb.de/2018/02/15/landesmeisterschaft-hgr-ii-d-s-standard-senioren-i-d-s-standard/
DTSTAMP:now
UID:69e87c25d8d40
END:VEVENT
END:VCALENDAR