BEGIN:VCALENDAR
VERSION:2.0
PRODID:-//hacksw/handcal//NONSGML v1.0//EN
CALSCALE:GREGORIAN
BEGIN:VEVENT
LOCATION:TSC Savoy München
DESCRIPTION:Ausrichter: TSC Savoy München
DTSTART:20190303
DTEND:20190304
SUMMARY:Landesmeisterschaft Senioren II D-A Standard / Senioren IV B-S Standard
URL;VALUE=URI:https://ltvb.de/2018/02/15/landesmeisterschaft-senioren-ii-d-a-standard-senioren-iv-b-s-standard/
DTSTAMP:now
UID:69e8900461206
END:VEVENT
END:VCALENDAR