BEGIN:VCALENDAR
VERSION:2.0
PRODID:-//hacksw/handcal//NONSGML v1.0//EN
CALSCALE:GREGORIAN
BEGIN:VEVENT
LOCATION:Club des Rosenheimer Tanzsports
DESCRIPTION:Ausrichter: Club des Rosenheimer Tanzsports
DTSTART:20190202
DTEND:20190203
SUMMARY:Landesmeisterschaft Kinder/Junioren/Jugend D-A Latein
URL;VALUE=URI:https://ltvb.de/2018/02/15/landesmeisterschaft-kinder-junioren-jugend-latein-2/
DTSTAMP:now
UID:69e8a25bc9fae
END:VEVENT
END:VCALENDAR