BEGIN:VCALENDAR
VERSION:2.0
PRODID:-//hacksw/handcal//NONSGML v1.0//EN
CALSCALE:GREGORIAN
BEGIN:VEVENT
LOCATION:TSG Fürth
DESCRIPTION:Veranstaltungsort: München/Unterhaching\n\n\n\n \n\n\n\n \n\n\n\nFreitag\, 07.12.2018\n\n\n\n19:30  offener Workshop mit Landestrainer Sven Traut\, p.P. 15€\n\n\n\n \n\n\n\nSamstag\, 08.12.2018\n\n\n\n10:00-13:00 Kader Hauptgruppe\n\n\n\n13:30-16:30  Kader Senioren\n\n\n\n \n\n\n\nSonntag\, 09.12.2018\n\n\n\nPrivatstunden\n\n\n\n \n\n\n\nTrainer: Landestrainer Sven Traut
DTSTART:20181207
DTEND:20181210
SUMMARY:Landeskader Standard
URL;VALUE=URI:https://ltvb.de/2017/12/30/landeskader-standard-7/
DTSTAMP:now
UID:69eb901fefe56
END:VEVENT
END:VCALENDAR