BEGIN:VCALENDAR
VERSION:2.0
PRODID:-//hacksw/handcal//NONSGML v1.0//EN
CALSCALE:GREGORIAN
BEGIN:VEVENT
LOCATION:Unterhaching
DESCRIPTION:Veranstaltungsort: Unterhaching\n\n\n\n \n\n\n\n \n\n\n\nFreitag\, 16.11.2018\n\n\n\n19:30  offener Workshop mit Landestrainer Sven Traut\, p.P. 15€\n\n\n\n \n\n\n\nSamstag\, 17.11.2018\n\n\n\n13:00-16:00  Kader Senioren\n\n\n\n \n\n\n\nSonntag\, 18.11.2018\n\n\n\n13:00-16:00 Kader Hauptgruppe\n\n\n\n \n\n\n\nTrainer: Landestrainer Sven Traut
DTSTART:20181116
DTEND:20181119
SUMMARY:Landeskader Standard
URL;VALUE=URI:https://ltvb.de/2017/12/30/landeskader-standard-6/
DTSTAMP:now
UID:69eb8a5f6983c
END:VEVENT
END:VCALENDAR