BEGIN:VCALENDAR
VERSION:2.0
PRODID:-//hacksw/handcal//NONSGML v1.0//EN
CALSCALE:GREGORIAN
BEGIN:VEVENT
LOCATION:TSC Rot-Gold-Casino Nürnberg 
DESCRIPTION:Veranstaltungsort: TSC Rot-Gold-Casino Nürnberg\n\n\n\n \n\n\n\n \n\n\n\nFreitag\, 16.03.2018\n\n\n\n19:30  offener Workshop mit Raimond Pisevs\, p.P. 15€\n\n\n\n \n\n\n\nSamstag\, 17.03.2018\n\n\n\n13:00-16:00  Kader Senioren\n\n\n\n \n\n\n\nSonntag\, 18.03.2018\n\n\n\n13:00-16:00 Kader Hauptgruppe\n\n\n\n \n\n\n\nTrainer: Raimond Pisevs
DTSTART:20180316
DTEND:20180319
SUMMARY:Landeskader Standard
URL;VALUE=URI:https://ltvb.de/2017/12/30/landeskader-standard-2/
DTSTAMP:now
UID:69eb8d25ea1d4
END:VEVENT
END:VCALENDAR