BEGIN:VCALENDAR
VERSION:2.0
PRODID:-//hacksw/handcal//NONSGML v1.0//EN
CALSCALE:GREGORIAN
BEGIN:VEVENT
LOCATION:RGC Nürnberg
DESCRIPTION:Neuerwerb Lizenz Trainer/in C Standard\n\n\n\n \n\n\n\n \n\n\n\nSa\, 14.07.18    10.00-18.00    RGC Nürnberg    fachlich Andrea Grabner\n\n\n\nSo\, 15.07.18    09.00-17.00    RGC Nürnberg    fachlich Andrea Grabner\n\n\n\n \n\n\n\nWeitere Termine:\n\n\n\n \n\n\n\nPrüfung: 3.-5.8.18   RGC Nürnberg\n\n\n\n \n\n\n\n \n\n\n\nKosten:\n\n\n\n645\,00 € Teilnehmergebühren inkl. überfachlicher Teil\n\n\n\n150\,00 € Prüfungsgebühren\n\n\n\n \n\n\n\n \n\n\n\n \n\n\n\n \n\n\n\n \n\n\n\n 
DTSTART:20180714
DTEND:20180716
SUMMARY:Ausbildung Trainer/in C Standard – Termin 7
URL;VALUE=URI:https://ltvb.de/2017/12/05/ausbildung-trainerin-c-standard-termin-7/
DTSTAMP:now
UID:69ec0609da89c
END:VEVENT
END:VCALENDAR