BEGIN:VCALENDAR
VERSION:2.0
PRODID:-//hacksw/handcal//NONSGML v1.0//EN
CALSCALE:GREGORIAN
BEGIN:VEVENT
LOCATION:TTC München
DESCRIPTION:Neuerwerb Lizenz Trainer/in C Standard\n\n\n\n \n\n\n\n \n\n\n\n \n\n\n\nSa\, 07.04.18    10.00-18.00    TTC München    fachlich Andrea Grabner\n\n\n\nSo\, 08.04.17    09.00-17.00    TTC München    fachlich Andrea Grabner\n\n\n\n \n\n\n\n \n\n\n\n \n\n\n\nWeitere Termine:\n\n\n\n \n\n\n\n \n\n\n\n \n\n\n\nSa\, 28.04.18    10.00-18.00    TTC München    fachlich Andrea Grabner\n\n\n\nSo\, 29.04.18    09.00-17.00    TTC München    fachlich Andrea Grabner\n\n\n\n \n\n\n\nSa\, 19.05.18    10.00-18.00    RGC Nürnberg    fachlich Andrea Grabner\n\n\n\nSo\, 20.05.18    10.00-18.00   RGC Nürnberg    fachlich Andrea Grabner\n\n\n\nMo\, 21.05.18    09.00-17.00    RGC Nürnberg    fachlich Andrea Grabner\n\n\n\n \n\n\n\nSa\, 02.06.18    09.00-18.00    TSZ Schwabach    überfachlich Thomas Nowinski\n\n\n\nSo\, 03.06.18    09.00-18.00    TSZ Schwabach    überfachlich Thomas Nowinski\n\n\n\n \n\n\n\nFr\, 08.06.18    18.00-22.00    RGC Nürnberg    überfachlich Michael Braun\n\n\n\nSa\, 09.06.18    09.00-17.00    RGC Nürnberg    überfachlich Ingo Körber\n\n\n\nSo\, 10.06.18    09.00-17.00    RGC Nürnberg    überfachlich Ingo Körber\n\n\n\n \n\n\n\nSa\, 30.06.18    10.00-18.00    RGC Nürnberg    fachlich Andrea Grabner\n\n\n\nSo\, 01.07.18    09.00-17.00    RGC Nürnberg    fachlich Andrea Grabner\n\n\n\n \n\n\n\nSa\, 14.07.18    10.00-18.00    RGC Nürnberg    fachlich Andrea Grabner\n\n\n\nSo\, 15.07.18    09.00-17.00    RGC Nürnberg    fachlich Andrea Grabner\n\n\n\n \n\n\n\nPrüfung: 3.-5.8.18   RGC Nürnberg\n\n\n\n \n\n\n\nKosten:\n\n\n\n645\,00 € Teilnehmergebühren inkl. überfachlicher Teil\n\n\n\n150\,00 € Prüfungsgebühren\n\n\n\n \n\n\n\n \n\n\n\n \n\n\n\n 
DTSTART:20180407
DTEND:20180409
SUMMARY:Ausbildung Trainer/in C Standard – Termin 1
URL;VALUE=URI:https://ltvb.de/2017/12/05/ausbildung-trainer-c-standard-termin-1/
DTSTAMP:now
UID:69e9ab944c5c0
END:VEVENT
END:VCALENDAR