BEGIN:VCALENDAR
VERSION:2.0
PRODID:-//hacksw/handcal//NONSGML v1.0//EN
CALSCALE:GREGORIAN
BEGIN:VEVENT
LOCATION:TSA des TSV Unterhaching 1910
DESCRIPTION:\n\n\n\n\n\nOrt:\n\nTanzsportsaal der TSA des TSV Unterhaching\n\n\n\nUtzweg 1 – 82008 Unterhaching\n\n\n\n\n\nThema:\n\nStandard – Antonio Spezial\n\n\n\n\n\nUhrzeit:\n\n19:00 – 20:30 Uhr\n\n\n\n\n\nKosten:\n\n20\,-- € / Person\n\n\n\n\n\n\n\n\n\n\n\n\n\nAnmeldung:\n\nTina und Lothar Pothfelder\n\n\n\n\n\n\n\n\n\n\n\n\n\nTelefon:\n\n089 – 632 86 445\n\n\n\n\n\n\n\n0173 – 39 50 330\n\n\n\n\n\n\n\n\n\n\n\n\n\nE-Mail:\n\ntina@pothfelder.de\n\n\n\n\n\n\n\nlothar@pothfelder.de\n\n\n\n\n\n
DTSTART:20171118
DTEND:20171119
SUMMARY:Workshop mit Antonio Gioncada in Unterhaching
URL;VALUE=URI:https://ltvb.de/2017/11/01/workshop-mit-antonio-gioncada-in-unterhaching/
DTSTAMP:now
UID:69e67b6381bb1
END:VEVENT
END:VCALENDAR