BEGIN:VCALENDAR
VERSION:2.0
PRODID:-//hacksw/handcal//NONSGML v1.0//EN
CALSCALE:GREGORIAN
BEGIN:VEVENT
LOCATION:Rosenheim
DESCRIPTION:Bayern tanzt - Bavarian Dance Days (Rosenheim)
DTSTART:20180722
DTEND:20180723
SUMMARY:Bayernpokal U18 D/C-Klassen
URL;VALUE=URI:https://ltvb.de/2017/10/11/bayernpokal-u18-dc-klassen-3/
DTSTAMP:now
UID:69e67b69d0ef2
END:VEVENT
END:VCALENDAR