BEGIN:VCALENDAR
VERSION:2.0
PRODID:-//hacksw/handcal//NONSGML v1.0//EN
CALSCALE:GREGORIAN
BEGIN:VEVENT
LOCATION:TSC Savoy München
DESCRIPTION:\nTSC Savoy München\n
DTSTART:20260308
DTEND:20260309
SUMMARY:Landesmeisterschaft Senioren IV / Senioren V D-S Standard
URL;VALUE=URI:https://ltvb.de/2025/01/20/landesmeisterschaft-masters-iv-d-s-standard-5/
DTSTAMP:now
UID:69e9c09ca2cc9
END:VEVENT
END:VCALENDAR