BEGIN:VCALENDAR
VERSION:2.0
PRODID:-//hacksw/handcal//NONSGML v1.0//EN
CALSCALE:GREGORIAN
BEGIN:VEVENT
LOCATION:TSG Fürth
DESCRIPTION:\nTSG Fürth\n
DTSTART:20260307
DTEND:20260308
SUMMARY:Landesmeisterschaft Senioren II D-S Standard
URL;VALUE=URI:https://ltvb.de/2025/01/20/landesmeisterschaft-masters-ii-d-s-standard-4/
DTSTAMP:now
UID:69e9c0c55f995
END:VEVENT
END:VCALENDAR