BEGIN:VCALENDAR
VERSION:2.0
PRODID:-//hacksw/handcal//NONSGML v1.0//EN
CALSCALE:GREGORIAN
BEGIN:VEVENT
LOCATION:Kitzinger TC
DESCRIPTION:\nTSC Dancegallery Königsbrunn\n
DTSTART:20260124
DTEND:20260126
SUMMARY:Landesmeisterschaft u19 Solo Latein
URL;VALUE=URI:https://ltvb.de/2025/01/20/landesmeisterschaft-u19-solo-latein/
DTSTAMP:now
UID:69e9c09cce701
END:VEVENT
END:VCALENDAR