BEGIN:VCALENDAR
VERSION:2.0
PRODID:-//hacksw/handcal//NONSGML v1.0//EN
CALSCALE:GREGORIAN
BEGIN:VEVENT
LOCATION:N.N.
DESCRIPTION:\nSven Traut \nOrt: N.N.\n
DTSTART:20251004
DTEND:20251006
SUMMARY:Landeskader Standard
URL;VALUE=URI:https://ltvb.de/2024/12/25/landeskader-standard-34/
DTSTAMP:now
UID:69e7359c5a987
END:VEVENT
END:VCALENDAR