BEGIN:VCALENDAR
VERSION:2.0
PRODID:-//hacksw/handcal//NONSGML v1.0//EN
CALSCALE:GREGORIAN
BEGIN:VEVENT
LOCATION:Karlsfeld
DESCRIPTION:\nKarlsfeld\n\n\n\nKarlsfeld\n
DTSTART:20251011
DTEND:20251012
SUMMARY:Landesmeisterschaft Hauptgruppe D-A Latein
URL;VALUE=URI:https://ltvb.de/2024/03/19/landesmeisterschaft-hauptgruppe-d-a-latein-6/
DTSTAMP:now
UID:69ead2ac455d5
END:VEVENT
END:VCALENDAR