BEGIN:VCALENDAR
VERSION:2.0
PRODID:-//hacksw/handcal//NONSGML v1.0//EN
CALSCALE:GREGORIAN
BEGIN:VEVENT
LOCATION:TSC dancepoint Königsbrunn
DESCRIPTION:\nTSC dancepoint Königsbrunn\n
DTSTART:20250531
DTEND:20250601
SUMMARY:Landesmeisterschaft Hgr D-A / Masters V Standard
URL;VALUE=URI:https://ltvb.de/2024/03/19/landesmeisterschaft-hgr-d-a-masters-v-standard/
DTSTAMP:now
UID:69ead2a146239
END:VEVENT
END:VCALENDAR