BEGIN:VCALENDAR
VERSION:2.0
PRODID:-//hacksw/handcal//NONSGML v1.0//EN
CALSCALE:GREGORIAN
BEGIN:VEVENT
LOCATION:CRT Rosenheim
DESCRIPTION:
DTSTART:20240204
DTEND:20240205
SUMMARY:Landesmeisterschaft Kinder/Junioren/Jugend Latein
URL;VALUE=URI:https://ltvb.de/2023/02/03/landesmeisterschaft-kinder-junioren-jugend-latein-4/
DTSTAMP:now
UID:69ed917ed69cb
END:VEVENT
END:VCALENDAR