BEGIN:VCALENDAR
VERSION:2.0
PRODID:-//hacksw/handcal//NONSGML v1.0//EN
CALSCALE:GREGORIAN
BEGIN:VEVENT
LOCATION:TTC München
DESCRIPTION:Veranstaltungsort: TTC München
DTSTART:20230519
DTEND:20230522
SUMMARY:Landeskader Standard
URL;VALUE=URI:https://ltvb.de/2022/11/17/landeskader-standard-24/
DTSTAMP:now
UID:69ea713b998b5
END:VEVENT
END:VCALENDAR