BEGIN:VCALENDAR
VERSION:2.0
PRODID:-//hacksw/handcal//NONSGML v1.0//EN
CALSCALE:GREGORIAN
BEGIN:VEVENT
LOCATION:Karlsfeld - Bürgerhaus
DESCRIPTION:Veranstalter: Blau-Gold-Casino München
DTSTART:20180121
DTEND:20260421
SUMMARY:Horst und Ilse-Dore Galke Gedächtnis-Wanderpokal
URL;VALUE=URI:https://ltvb.de/2017/07/06/horst-und-ilse-dore-galke-gedaechtnis-wanderpokal/
DTSTAMP:now
UID:69e67aede92b1
END:VEVENT
END:VCALENDAR