BEGIN:VCALENDAR
VERSION:2.0
PRODID:-//hacksw/handcal//NONSGML v1.0//EN
CALSCALE:GREGORIAN
BEGIN:VEVENT
LOCATION:TSG Bavaria Augsburg
DESCRIPTION:Ausrichter: TSG Bavaria Augsburg
DTSTART:20231014
DTEND:20231015
SUMMARY:Landesmeisterschaft Hgr D-A Latein
URL;VALUE=URI:https://ltvb.de/2022/01/25/landesmeisterschaft-hgr-d-a-latein-6/
DTSTAMP:now
UID:69ea1ff6cc281
END:VEVENT
END:VCALENDAR